Package: CFAssay Version: 1.44.0 Command: /home/biocbuild/bbs-3.22-bioc/R/bin/R CMD check --install=check:CFAssay.install-out.txt --library=/home/biocbuild/bbs-3.22-bioc/R/site-library --timings CFAssay_1.44.0.tar.gz StartedAt: 2025-11-06 21:55:40 -0500 (Thu, 06 Nov 2025) EndedAt: 2025-11-06 21:56:00 -0500 (Thu, 06 Nov 2025) EllapsedTime: 20.0 seconds RetCode: 0 Status: OK CheckDir: CFAssay.Rcheck Warnings: 0