Package: CEMiTool Version: 1.34.0 Command: /home/biocbuild/R/R/bin/R CMD INSTALL CEMiTool StartedAt: 2025-11-17 21:59:34 -0000 (Mon, 17 Nov 2025) EndedAt: 2025-11-17 22:00:13 -0000 (Mon, 17 Nov 2025) EllapsedTime: 39.7 seconds RetCode: 0 Status: OK