Package: CEMiTool Version: 1.34.0 Command: /home/biocbuild/bbs-3.22-bioc/R/bin/R CMD INSTALL CEMiTool StartedAt: 2025-11-17 18:04:40 -0500 (Mon, 17 Nov 2025) EndedAt: 2025-11-17 18:05:08 -0500 (Mon, 17 Nov 2025) EllapsedTime: 27.6 seconds RetCode: 0 Status: OK