Package: CEMiTool Version: 1.34.0 Command: /home/biocbuild/bbs-3.22-bioc/R/bin/R CMD build --keep-empty-dirs --no-resave-data --md5 CEMiTool StartedAt: 2025-11-17 20:02:50 -0500 (Mon, 17 Nov 2025) EndedAt: 2025-11-17 20:04:30 -0500 (Mon, 17 Nov 2025) EllapsedTime: 100.1 seconds RetCode: 0 Status: OK PackageFile: CEMiTool_1.34.0.tar.gz PackageFileSize: 5.483 MiB