Package: CEMiTool Version: 1.34.0 Command: /Library/Frameworks/R.framework/Resources/bin/R CMD INSTALL CEMiTool StartedAt: 2025-11-10 15:25:11 -0500 (Mon, 10 Nov 2025) EndedAt: 2025-11-10 15:25:23 -0500 (Mon, 10 Nov 2025) EllapsedTime: 11.6 seconds RetCode: 0 Status: OK