Package: CEMiTool Version: 1.34.0 Command: /Library/Frameworks/R.framework/Resources/bin/R CMD check --install=check:CEMiTool.install-out.txt --library=/Library/Frameworks/R.framework/Resources/library --no-vignettes --timings CEMiTool_1.34.0.tar.gz StartedAt: 2025-11-10 19:11:03 -0500 (Mon, 10 Nov 2025) EndedAt: 2025-11-10 19:12:53 -0500 (Mon, 10 Nov 2025) EllapsedTime: 110.4 seconds RetCode: 0 Status: OK CheckDir: CEMiTool.Rcheck Warnings: 0