Package: CEMiTool Version: 1.34.0 Command: /Library/Frameworks/R.framework/Resources/bin/R CMD build --keep-empty-dirs --no-resave-data CEMiTool StartedAt: 2025-11-10 15:53:32 -0500 (Mon, 10 Nov 2025) EndedAt: 2025-11-10 15:54:14 -0500 (Mon, 10 Nov 2025) EllapsedTime: 42.5 seconds RetCode: 0 Status: OK PackageFile: CEMiTool_1.34.0.tar.gz PackageFileSize: 5.638 MiB