Package: CCPlotR Version: 1.8.0 Command: /home/biocbuild/bbs-3.22-bioc/R/bin/R CMD INSTALL CCPlotR StartedAt: 2025-11-09 15:14:28 -0500 (Sun, 09 Nov 2025) EndedAt: 2025-11-09 15:14:41 -0500 (Sun, 09 Nov 2025) EllapsedTime: 13.4 seconds RetCode: 0 Status: OK