Package: CCPlotR Version: 1.8.0 Command: /home/biocbuild/bbs-3.22-bioc/R/bin/R CMD check --install=check:CCPlotR.install-out.txt --library=/home/biocbuild/bbs-3.22-bioc/R/site-library --timings CCPlotR_1.8.0.tar.gz StartedAt: 2025-11-09 22:02:20 -0500 (Sun, 09 Nov 2025) EndedAt: 2025-11-09 22:04:20 -0500 (Sun, 09 Nov 2025) EllapsedTime: 119.3 seconds RetCode: 0 Status: OK CheckDir: CCPlotR.Rcheck Warnings: 0