Package: CCPlotR Version: 1.8.0 Command: /home/biocbuild/bbs-3.22-bioc/R/bin/R CMD build --keep-empty-dirs --no-resave-data --md5 CCPlotR StartedAt: 2025-11-09 16:44:26 -0500 (Sun, 09 Nov 2025) EndedAt: 2025-11-09 16:45:04 -0500 (Sun, 09 Nov 2025) EllapsedTime: 38.0 seconds RetCode: 0 Status: OK PackageFile: CCPlotR_1.8.0.tar.gz PackageFileSize: 4.691 MiB