Package: CCPROMISE Version: 1.36.0 Command: /home/biocbuild/bbs-3.22-bioc/R/bin/R CMD check --install=check:CCPROMISE.install-out.txt --library=/home/biocbuild/bbs-3.22-bioc/R/site-library --timings CCPROMISE_1.36.0.tar.gz StartedAt: 2025-11-09 22:02:20 -0500 (Sun, 09 Nov 2025) EndedAt: 2025-11-09 22:05:16 -0500 (Sun, 09 Nov 2025) EllapsedTime: 175.3 seconds RetCode: 0 Status: WARNINGS CheckDir: CCPROMISE.Rcheck Warnings: 1