Package: CCPROMISE Version: 1.36.0 Command: /Library/Frameworks/R.framework/Resources/bin/R CMD check --install=check:CCPROMISE.install-out.txt --library=/Library/Frameworks/R.framework/Resources/library --no-vignettes --timings CCPROMISE_1.36.0.tar.gz StartedAt: 2025-11-03 20:01:46 -0500 (Mon, 03 Nov 2025) EndedAt: 2025-11-03 20:04:44 -0500 (Mon, 03 Nov 2025) EllapsedTime: 177.7 seconds RetCode: 0 Status: WARNINGS CheckDir: CCPROMISE.Rcheck Warnings: 1