Package: CCPROMISE Version: 1.36.0 Command: /Library/Frameworks/R.framework/Resources/bin/R CMD build --keep-empty-dirs --no-resave-data CCPROMISE StartedAt: 2025-11-03 16:22:35 -0500 (Mon, 03 Nov 2025) EndedAt: 2025-11-03 16:23:21 -0500 (Mon, 03 Nov 2025) EllapsedTime: 45.7 seconds RetCode: 0 Status: OK PackageFile: CCPROMISE_1.36.0.tar.gz PackageFileSize: 1.03 MiB