Package: CCPROMISE Version: 1.36.0 Command: /Library/Frameworks/R.framework/Resources/bin/R CMD INSTALL CCPROMISE StartedAt: 2025-11-09 15:31:33 -0500 (Sun, 09 Nov 2025) EndedAt: 2025-11-09 15:31:39 -0500 (Sun, 09 Nov 2025) EllapsedTime: 6.3 seconds RetCode: 0 Status: OK