Package: CCPROMISE Version: 1.36.0 Command: /Library/Frameworks/R.framework/Resources/bin/R CMD build --keep-empty-dirs --no-resave-data CCPROMISE StartedAt: 2025-11-09 15:51:54 -0500 (Sun, 09 Nov 2025) EndedAt: 2025-11-09 15:52:12 -0500 (Sun, 09 Nov 2025) EllapsedTime: 18.2 seconds RetCode: 0 Status: OK PackageFile: CCPROMISE_1.36.0.tar.gz PackageFileSize: 1.03 MiB