Package: CBN2Path Version: 1.0.0 Command: /home/biocbuild/R/R/bin/R CMD INSTALL CBN2Path StartedAt: 2025-11-13 21:35:22 -0000 (Thu, 13 Nov 2025) EndedAt: 2025-11-13 21:36:14 -0000 (Thu, 13 Nov 2025) EllapsedTime: 52.1 seconds RetCode: 0 Status: OK