Package: CBN2Path Version: 1.0.0 Command: /Library/Frameworks/R.framework/Resources/bin/R CMD check --install=check:CBN2Path.install-out.txt --library=/Library/Frameworks/R.framework/Resources/library --no-vignettes --timings CBN2Path_1.0.0.tar.gz StartedAt: 2025-11-10 19:07:43 -0500 (Mon, 10 Nov 2025) EndedAt: 2025-11-10 19:11:17 -0500 (Mon, 10 Nov 2025) EllapsedTime: 213.6 seconds RetCode: 0 Status: WARNINGS CheckDir: CBN2Path.Rcheck Warnings: 1