Package: CBN2Path Version: 1.0.0 Maintainer: William Choi-Kim MaintainerEmail: william at williamck.com git_url: https://git.bioconductor.org/packages/CBN2Path git_branch: RELEASE_3_22 git_last_commit: bb06034 git_last_commit_date: 2025-10-29 11:39:00 -0500 (Wed, 29 Oct 2025)