Package: CATALYST Version: 1.32.1 Command: /home/biocbuild/bbs-3.21-bioc/R/bin/R CMD INSTALL CATALYST StartedAt: 2025-10-15 15:54:20 -0400 (Wed, 15 Oct 2025) EndedAt: 2025-10-15 15:54:58 -0400 (Wed, 15 Oct 2025) EllapsedTime: 37.5 seconds RetCode: 0 Status: OK