Package: CATALYST Version: 1.32.1 Command: /home/biocbuild/bbs-3.21-bioc/R/bin/R CMD check --install=check:CATALYST.install-out.txt --library=/home/biocbuild/bbs-3.21-bioc/R/site-library --timings CATALYST_1.32.1.tar.gz StartedAt: 2025-10-15 21:27:04 -0400 (Wed, 15 Oct 2025) EndedAt: 2025-10-15 21:39:11 -0400 (Wed, 15 Oct 2025) EllapsedTime: 726.9 seconds RetCode: 0 Status: OK CheckDir: CATALYST.Rcheck Warnings: 0