Package: CATALYST Version: 1.32.1 Command: /home/biocbuild/bbs-3.21-bioc/R/bin/R CMD build --keep-empty-dirs --no-resave-data CATALYST StartedAt: 2025-10-15 16:34:46 -0400 (Wed, 15 Oct 2025) EndedAt: 2025-10-15 16:37:31 -0400 (Wed, 15 Oct 2025) EllapsedTime: 165.2 seconds RetCode: 0 Status: OK PackageFile: CATALYST_1.32.1.tar.gz PackageFileSize: 11.26 MiB