Package: CATALYST Version: 1.32.1 Command: /Library/Frameworks/R.framework/Resources/bin/R CMD INSTALL CATALYST StartedAt: 2025-10-13 16:41:14 -0400 (Mon, 13 Oct 2025) EndedAt: 2025-10-13 16:42:36 -0400 (Mon, 13 Oct 2025) EllapsedTime: 81.9 seconds RetCode: 0 Status: OK