Package: CATALYST Version: 1.32.1 Command: /home/biocbuild/R/R/bin/R CMD check --install=check:CATALYST.install-out.txt --library=/home/biocbuild/R/R/site-library --no-vignettes --timings CATALYST_1.32.1.tar.gz StartedAt: 2025-10-14 07:10:17 -0000 (Tue, 14 Oct 2025) EndedAt: 2025-10-14 07:24:47 -0000 (Tue, 14 Oct 2025) EllapsedTime: 869.6 seconds RetCode: 0 Status: OK CheckDir: CATALYST.Rcheck Warnings: 0