Package: CATALYST Version: 1.32.1 Command: /Library/Frameworks/R.framework/Resources/bin/R CMD check --install=check:CATALYST.install-out.txt --library=/Library/Frameworks/R.framework/Resources/library --no-vignettes --timings CATALYST_1.32.1.tar.gz StartedAt: 2025-10-14 15:13:46 -0400 (Tue, 14 Oct 2025) EndedAt: 2025-10-14 15:25:43 -0400 (Tue, 14 Oct 2025) EllapsedTime: 717.6 seconds RetCode: 0 Status: OK CheckDir: CATALYST.Rcheck Warnings: 0