############################################################################## ############################################################################## ### ### Running command: ### ### /Library/Frameworks/R.framework/Resources/bin/R CMD check --install=check:CATALYST.install-out.txt --library=/Library/Frameworks/R.framework/Resources/library --no-vignettes --timings CATALYST_1.32.1.tar.gz ### ############################################################################## ############################################################################## * using log directory ‘/Users/biocbuild/bbs-3.21-bioc/meat/CATALYST.Rcheck’ * using R version 4.5.1 Patched (2025-06-14 r88325) * using platform: aarch64-apple-darwin20 * R was compiled by Apple clang version 16.0.0 (clang-1600.0.26.6) GNU Fortran (GCC) 14.2.0 * running under: macOS Ventura 13.7.5 * using session charset: UTF-8 * using option ‘--no-vignettes’ * checking for file ‘CATALYST/DESCRIPTION’ ... OK * checking extension type ... Package * this is package ‘CATALYST’ version ‘1.32.1’ * package encoding: UTF-8 * checking package namespace information ... OK * checking package dependencies ... INFO Imports includes 24 non-default packages. Importing from so many packages makes the package vulnerable to any of them becoming unavailable. Move as many as possible to Suggests and use conditionally. * checking if this is a source package ... OK * checking if there is a namespace ... OK * checking for hidden files and directories ... OK * checking for portable file names ... OK * checking for sufficient/correct file permissions ... OK * checking whether package ‘CATALYST’ can be installed ... OK * checking installed package size ... OK * checking package directory ... OK * checking ‘build’ directory ... OK * checking DESCRIPTION meta-information ... OK * checking top-level files ... OK * checking for left-over files ... OK * checking index information ... OK * checking package subdirectories ... OK * checking code files for non-ASCII characters ... OK * checking R files for syntax errors ... OK * checking whether the package can be loaded ... OK * checking whether the package can be loaded with stated dependencies ... OK * checking whether the package can be unloaded cleanly ... OK * checking whether the namespace can be loaded with stated dependencies ... OK * checking whether the namespace can be unloaded cleanly ... OK * checking dependencies in R code ... OK * checking S3 generic/method consistency ... OK * checking replacement functions ... OK * checking foreign function calls ... OK * checking R code for possible problems ... NOTE plotExprs: no visible binding for global variable ‘ndensity’ Undefined global functions or variables: ndensity * checking Rd files ... NOTE checkRd: (-1) plotDiffHeatmap.Rd:87: Lost braces in \itemize; meant \describe ? checkRd: (-1) plotDiffHeatmap.Rd:88: Lost braces in \itemize; meant \describe ? * checking Rd metadata ... OK * checking Rd cross-references ... NOTE Found the following Rd file(s) with Rd \link{} targets missing package anchors: SCE-accessors.Rd: SingleCellExperiment, FlowSOM, ConsensusClusterPlus cluster.Rd: ggplot compCytof.Rd: flowFrame data.Rd: flowSet, flowFrame plotClusterExprs.Rd: ggplot plotCounts.Rd: ggplot plotExprs.Rd: ggplot plotPbExprs.Rd: SingleCellExperiment prepData.Rd: read.FCS Please provide package anchors for all Rd \link{} targets not in the package itself and the base packages. * checking for missing documentation entries ... OK * checking for code/documentation mismatches ... OK * checking Rd \usage sections ... OK * checking Rd contents ... OK * checking for unstated dependencies in examples ... OK * checking contents of ‘data’ directory ... OK * checking data for non-ASCII characters ... OK * checking LazyData ... OK * checking data for ASCII and uncompressed saves ... OK * checking files in ‘vignettes’ ... OK * checking examples ... OK Examples with CPU (user + system) or elapsed time > 5s user system elapsed plotPbExprs 15.286 1.210 16.741 plotDR 15.034 1.442 16.683 plotMultiHeatmap 13.673 1.458 15.334 plotDiffHeatmap 11.997 1.379 13.582 sce2fcs 9.611 1.513 11.283 plotExprHeatmap 9.973 0.710 10.880 plotClusterExprs 9.412 1.237 10.812 plotAbundances 7.587 1.037 8.729 plotFreqHeatmap 6.940 1.294 8.333 clrDR 6.841 1.340 8.282 plotCodes 6.667 1.351 8.126 SCE-accessors 7.027 0.972 8.087 pbMDS 7.227 0.694 8.197 mergeClusters 6.995 0.688 7.751 cluster 5.733 1.176 7.021 runDR 6.706 0.061 6.865 extractClusters 5.447 1.105 6.638 filterSCE 5.734 0.689 6.490 plotMahal 6.216 0.133 6.421 compCytof 5.586 0.352 6.016 plotYields 5.253 0.249 5.570 plotScatter 5.075 0.101 5.245 computeSpillmat 4.714 0.290 5.095 * checking for unstated dependencies in ‘tests’ ... OK * checking tests ... Running ‘testthat.R’ OK * checking for unstated dependencies in vignettes ... OK * checking package vignettes ... OK * checking running R code from vignettes ... SKIPPED * checking re-building of vignette outputs ... SKIPPED * checking PDF version of manual ... OK * DONE Status: 3 NOTEs See ‘/Users/biocbuild/bbs-3.21-bioc/meat/CATALYST.Rcheck/00check.log’ for details.