Package: CATALYST Version: 1.32.1 Maintainer: Helena L. Crowell MaintainerEmail: helena at crowell.eu git_url: https://git.bioconductor.org/packages/CATALYST git_branch: RELEASE_3_21 git_last_commit: 0328eff git_last_commit_date: 2025-10-05 16:27:34 -0400 (Sun, 05 Oct 2025)