Package: CARNIVAL Version: 2.20.0 Command: /home/biocbuild/R/R/bin/R CMD INSTALL CARNIVAL StartedAt: 2025-11-17 21:12:33 -0000 (Mon, 17 Nov 2025) EndedAt: 2025-11-17 21:12:49 -0000 (Mon, 17 Nov 2025) EllapsedTime: 15.6 seconds RetCode: 0 Status: OK