Package: CARNIVAL Version: 2.20.0 Command: /home/biocbuild/R/R/bin/R CMD build --keep-empty-dirs --no-resave-data CARNIVAL StartedAt: 2025-11-18 00:14:26 -0000 (Tue, 18 Nov 2025) EndedAt: 2025-11-18 00:14:38 -0000 (Tue, 18 Nov 2025) EllapsedTime: 12.0 seconds RetCode: 0 Status: OK PackageFile: CARNIVAL_2.20.0.tar.gz PackageFileSize: 2.047 MiB