Package: CARNIVAL Version: 2.19.0 Command: F:\biocbuild\bbs-3.22-bioc\R\bin\R.exe CMD check --no-multiarch --install=check:CARNIVAL.install-out.txt --library=F:\biocbuild\bbs-3.22-bioc\R\library --no-vignettes --timings CARNIVAL_2.19.0.tar.gz StartedAt: 2025-08-15 01:19:50 -0400 (Fri, 15 Aug 2025) EndedAt: 2025-08-15 01:20:52 -0400 (Fri, 15 Aug 2025) EllapsedTime: 62.4 seconds RetCode: 0 Status: OK CheckDir: CARNIVAL.Rcheck Warnings: 0