Package: CARNIVAL Version: 2.20.0 Command: /home/biocbuild/bbs-3.22-bioc/R/bin/R CMD build --keep-empty-dirs --no-resave-data --md5 CARNIVAL StartedAt: 2025-11-06 16:39:45 -0500 (Thu, 06 Nov 2025) EndedAt: 2025-11-06 16:39:54 -0500 (Thu, 06 Nov 2025) EllapsedTime: 9.0 seconds RetCode: 0 Status: OK PackageFile: CARNIVAL_2.20.0.tar.gz PackageFileSize: 2.052 MiB