Package: CARNIVAL Version: 2.20.0 Command: /Library/Frameworks/R.framework/Resources/bin/R CMD INSTALL CARNIVAL StartedAt: 2025-11-10 15:04:58 -0500 (Mon, 10 Nov 2025) EndedAt: 2025-11-10 15:05:01 -0500 (Mon, 10 Nov 2025) EllapsedTime: 2.8 seconds RetCode: 0 Status: OK