Package: CARNIVAL Version: 2.20.0 Command: /Library/Frameworks/R.framework/Resources/bin/R CMD check --install=check:CARNIVAL.install-out.txt --library=/Library/Frameworks/R.framework/Resources/library --no-vignettes --timings CARNIVAL_2.20.0.tar.gz StartedAt: 2025-11-10 19:06:52 -0500 (Mon, 10 Nov 2025) EndedAt: 2025-11-10 19:07:12 -0500 (Mon, 10 Nov 2025) EllapsedTime: 20.3 seconds RetCode: 0 Status: OK CheckDir: CARNIVAL.Rcheck Warnings: 0