Package: CARNIVAL Version: 2.20.0 Command: /Library/Frameworks/R.framework/Resources/bin/R CMD build --keep-empty-dirs --no-resave-data CARNIVAL StartedAt: 2025-11-10 15:50:42 -0500 (Mon, 10 Nov 2025) EndedAt: 2025-11-10 15:50:46 -0500 (Mon, 10 Nov 2025) EllapsedTime: 4.1 seconds RetCode: 0 Status: OK PackageFile: CARNIVAL_2.20.0.tar.gz PackageFileSize: 2.047 MiB