Package: CARDspa Version: 1.0.0 Command: /home/biocbuild/R/R/bin/R CMD INSTALL CARDspa StartedAt: 2025-10-13 20:48:14 -0000 (Mon, 13 Oct 2025) EndedAt: 2025-10-13 20:49:45 -0000 (Mon, 13 Oct 2025) EllapsedTime: 90.5 seconds RetCode: 0 Status: OK