Package: CAMERA Version: 1.65.1 Command: /home/biocbuild/R/R/bin/R CMD check --install=check:CAMERA.install-out.txt --library=/home/biocbuild/R/R/site-library --no-vignettes --timings CAMERA_1.65.1.tar.gz StartedAt: 2025-10-21 06:10:59 -0000 (Tue, 21 Oct 2025) EndedAt: 2025-10-21 06:26:47 -0000 (Tue, 21 Oct 2025) EllapsedTime: 947.8 seconds RetCode: 0 Status: WARNINGS CheckDir: CAMERA.Rcheck Warnings: 1