Package: CAMERA Version: 1.65.1 Command: chmod a+r CAMERA -R && F:\biocbuild\bbs-3.22-bioc\R\bin\R.exe CMD build --keep-empty-dirs --no-resave-data CAMERA StartedAt: 2025-08-14 18:54:03 -0400 (Thu, 14 Aug 2025) EndedAt: 2025-08-14 18:56:56 -0400 (Thu, 14 Aug 2025) EllapsedTime: 172.9 seconds RetCode: 0 Status: OK PackageFile: CAMERA_1.65.1.tar.gz PackageFileSize: 2.097 MiB