Package: CAMERA Version: 1.64.0 Command: rm -rf CAMERA.buildbin-libdir && mkdir CAMERA.buildbin-libdir && E:\biocbuild\bbs-3.21-bioc\R\bin\R.exe CMD INSTALL --build --library=CAMERA.buildbin-libdir CAMERA_1.64.0.tar.gz StartedAt: 2025-08-15 08:55:00 -0400 (Fri, 15 Aug 2025) EndedAt: 2025-08-15 08:57:36 -0400 (Fri, 15 Aug 2025) EllapsedTime: 155.3 seconds RetCode: 0 Status: OK PackageFile: CAMERA_1.64.0.zip PackageFileSize: 2.886 MiB