Package: CAGEfightR Version: 1.30.0 Command: /Library/Frameworks/R.framework/Resources/bin/R CMD check --install=check:CAGEfightR.install-out.txt --library=/Library/Frameworks/R.framework/Resources/library --no-vignettes --timings CAGEfightR_1.30.0.tar.gz StartedAt: 2025-10-30 18:49:12 -0400 (Thu, 30 Oct 2025) EndedAt: 2025-10-30 18:51:48 -0400 (Thu, 30 Oct 2025) EllapsedTime: 155.9 seconds RetCode: 0 Status: OK CheckDir: CAGEfightR.Rcheck Warnings: 0