Package: CAGEfightR Version: 1.30.0 Command: rm -rf CAGEfightR.buildbin-libdir && mkdir CAGEfightR.buildbin-libdir && /Users/biocbuild/BBS/utils/build-universal.sh CAGEfightR_1.30.0.tar.gz /Library/Frameworks/R.framework/Resources/bin/R CAGEfightR.buildbin-libdir StartedAt: 2025-10-30 22:54:10 -0400 (Thu, 30 Oct 2025) EndedAt: 2025-10-30 22:54:33 -0400 (Thu, 30 Oct 2025) EllapsedTime: 22.4 seconds RetCode: 0 Status: OK PackageFile: CAGEfightR_1.30.0.tgz PackageFileSize: 2.627 MiB