Package: CAEN Version: 1.16.0 Command: rm -rf CAEN.buildbin-libdir && mkdir CAEN.buildbin-libdir && /Users/biocbuild/BBS/utils/build-universal.sh CAEN_1.16.0.tar.gz /Library/Frameworks/R.framework/Resources/bin/R CAEN.buildbin-libdir StartedAt: 2025-10-11 19:18:53 -0400 (Sat, 11 Oct 2025) EndedAt: 2025-10-11 19:19:21 -0400 (Sat, 11 Oct 2025) EllapsedTime: 28.4 seconds RetCode: 0 Status: OK PackageFile: CAEN_1.16.0.tgz PackageFileSize: 1.52 MiB