Package: BulkSignalR Version: 1.0.5 Command: /home/biocbuild/R/R/bin/R CMD build --keep-empty-dirs --no-resave-data BulkSignalR StartedAt: 2025-10-02 23:20:10 -0000 (Thu, 02 Oct 2025) EndedAt: 2025-10-02 23:28:13 -0000 (Thu, 02 Oct 2025) EllapsedTime: 482.1 seconds RetCode: 0 Status: OK PackageFile: BulkSignalR_1.0.5.tar.gz PackageFileSize: 2.951 MiB