Package: BubbleTree Version: 2.40.0 Command: /home/biocbuild/R/R/bin/R CMD INSTALL BubbleTree StartedAt: 2025-11-17 21:51:49 -0000 (Mon, 17 Nov 2025) EndedAt: 2025-11-17 21:52:57 -0000 (Mon, 17 Nov 2025) EllapsedTime: 68.2 seconds RetCode: 0 Status: OK