Package: BrowserViz Version: 2.32.0 Command: /home/biocbuild/R/R/bin/R CMD INSTALL BrowserViz StartedAt: 2025-11-17 21:17:29 -0000 (Mon, 17 Nov 2025) EndedAt: 2025-11-17 21:17:34 -0000 (Mon, 17 Nov 2025) EllapsedTime: 4.8 seconds RetCode: 0 Status: OK