Package: BrowserViz Version: 2.32.0 Command: /home/biocbuild/R/R/bin/R CMD check --install=check:BrowserViz.install-out.txt --library=/home/biocbuild/R/R/site-library --no-vignettes --timings BrowserViz_2.32.0.tar.gz StartedAt: 2025-11-18 07:46:59 -0000 (Tue, 18 Nov 2025) EndedAt: 2025-11-18 07:47:36 -0000 (Tue, 18 Nov 2025) EllapsedTime: 37.1 seconds RetCode: 0 Status: OK CheckDir: BrowserViz.Rcheck Warnings: 0