Package: BrowserViz Version: 2.32.0 Command: /home/biocbuild/bbs-3.22-bioc/R/bin/R CMD INSTALL BrowserViz StartedAt: 2025-11-06 15:13:53 -0500 (Thu, 06 Nov 2025) EndedAt: 2025-11-06 15:13:57 -0500 (Thu, 06 Nov 2025) EllapsedTime: 4.1 seconds RetCode: 0 Status: OK