Package: BrowserViz Version: 2.32.0 Command: /home/biocbuild/bbs-3.22-bioc/R/bin/R CMD check --install=check:BrowserViz.install-out.txt --library=/home/biocbuild/bbs-3.22-bioc/R/site-library --timings BrowserViz_2.32.0.tar.gz StartedAt: 2025-11-06 21:38:56 -0500 (Thu, 06 Nov 2025) EndedAt: 2025-11-06 21:39:25 -0500 (Thu, 06 Nov 2025) EllapsedTime: 28.1 seconds RetCode: 0 Status: OK CheckDir: BrowserViz.Rcheck Warnings: 0