Package: BrowserViz Version: 2.32.0 Command: /Library/Frameworks/R.framework/Resources/bin/R CMD INSTALL BrowserViz StartedAt: 2025-11-10 15:07:57 -0500 (Mon, 10 Nov 2025) EndedAt: 2025-11-10 15:07:59 -0500 (Mon, 10 Nov 2025) EllapsedTime: 2.1 seconds RetCode: 0 Status: OK