Package: BloodGen3Module Version: 1.18.0 Command: /home/biocbuild/bbs-3.22-bioc/R/bin/R CMD INSTALL BloodGen3Module StartedAt: 2025-11-10 15:31:33 -0500 (Mon, 10 Nov 2025) EndedAt: 2025-11-10 15:32:11 -0500 (Mon, 10 Nov 2025) EllapsedTime: 38.1 seconds RetCode: 0 Status: OK