Package: BloodGen3Module Version: 1.18.0 Command: /home/biocbuild/bbs-3.22-bioc/R/bin/R CMD check --install=check:BloodGen3Module.install-out.txt --library=/home/biocbuild/bbs-3.22-bioc/R/site-library --timings BloodGen3Module_1.18.0.tar.gz StartedAt: 2025-11-10 21:46:29 -0500 (Mon, 10 Nov 2025) EndedAt: 2025-11-10 21:52:02 -0500 (Mon, 10 Nov 2025) EllapsedTime: 332.4 seconds RetCode: 0 Status: WARNINGS CheckDir: BloodGen3Module.Rcheck Warnings: 1