Package: Biostrings Version: 2.76.0 Command: E:\biocbuild\bbs-3.21-bioc\R\bin\R.exe CMD INSTALL Biostrings StartedAt: 2025-08-14 15:48:38 -0400 (Thu, 14 Aug 2025) EndedAt: 2025-08-14 15:51:34 -0400 (Thu, 14 Aug 2025) EllapsedTime: 176.2 seconds RetCode: 0 Status: OK